BEGIN:VCALENDAR
VERSION:2.0
PRODID:-//FAES - ECPv6.14.2//NONSGML v1.0//EN
CALSCALE:GREGORIAN
METHOD:PUBLISH
X-ORIGINAL-URL:https://faesafor.com/es
X-WR-CALDESC:Eventos para FAES
REFRESH-INTERVAL;VALUE=DURATION:PT1H
X-Robots-Tag:noindex
X-PUBLISHED-TTL:PT1H
BEGIN:VTIMEZONE
TZID:Europe/Helsinki
BEGIN:DAYLIGHT
TZOFFSETFROM:+0200
TZOFFSETTO:+0300
TZNAME:EEST
DTSTART:20250330T010000
END:DAYLIGHT
BEGIN:STANDARD
TZOFFSETFROM:+0300
TZOFFSETTO:+0200
TZNAME:EET
DTSTART:20251026T010000
END:STANDARD
END:VTIMEZONE
BEGIN:VEVENT
DTSTART;TZID=Europe/Helsinki:20251204T000000
DTEND;TZID=Europe/Helsinki:20251204T000000
DTSTAMP:20260420T154354
CREATED:20250723T103638Z
LAST-MODIFIED:20250729T144157Z
UID:11141-1764806400-1764806400@faesafor.com
SUMMARY:Premios FAES 2025
DESCRIPTION:
URL:https://faesafor.com/es/event/premios-faes-2025/
LOCATION:Valencia
END:VEVENT
END:VCALENDAR